Package: DESeq2 Version: 1.46.0 Command: /Library/Frameworks/R.framework/Resources/bin/R CMD INSTALL DESeq2 StartedAt: 2025-01-30 15:51:28 -0500 (Thu, 30 Jan 2025) EndedAt: 2025-01-30 15:52:17 -0500 (Thu, 30 Jan 2025) EllapsedTime: 49.2 seconds RetCode: 0 Status: OK