Package: DelayedTensor Version: 1.14.0 Command: /Library/Frameworks/R.framework/Resources/bin/R CMD build --keep-empty-dirs --no-resave-data DelayedTensor StartedAt: 2025-07-14 22:44:15 -0400 (Mon, 14 Jul 2025) EndedAt: 2025-07-14 22:47:41 -0400 (Mon, 14 Jul 2025) EllapsedTime: 206.6 seconds RetCode: 0 Status: OK PackageFile: DelayedTensor_1.14.0.tar.gz PackageFileSize: 4.129 MiB