Package: DelayedTensor Version: 1.14.0 Command: /home/biocbuild/R/R/bin/R CMD build --keep-empty-dirs --no-resave-data DelayedTensor StartedAt: 2025-06-13 00:10:38 -0000 (Fri, 13 Jun 2025) EndedAt: 2025-06-13 00:15:32 -0000 (Fri, 13 Jun 2025) EllapsedTime: 294.1 seconds RetCode: 0 Status: OK PackageFile: DelayedTensor_1.14.0.tar.gz PackageFileSize: 4.385 MiB