Package: DelayedTensor Version: 1.14.0 Command: /home/biocbuild/R/R/bin/R CMD INSTALL DelayedTensor StartedAt: 2025-06-12 21:12:54 -0000 (Thu, 12 Jun 2025) EndedAt: 2025-06-12 21:13:32 -0000 (Thu, 12 Jun 2025) EllapsedTime: 38.0 seconds RetCode: 0 Status: OK