Package: DelayedTensor Version: 1.14.0 Command: /home/biocbuild/bbs-3.21-bioc/R/bin/R CMD INSTALL DelayedTensor StartedAt: 2025-07-16 15:54:00 -0400 (Wed, 16 Jul 2025) EndedAt: 2025-07-16 15:54:29 -0400 (Wed, 16 Jul 2025) EllapsedTime: 28.9 seconds RetCode: 0 Status: OK