Package: ERSSA Version: 1.24.0 Command: /home/biocbuild/R/R/bin/R CMD build --keep-empty-dirs --no-resave-data ERSSA StartedAt: 2025-02-03 23:30:40 -0000 (Mon, 03 Feb 2025) EndedAt: 2025-02-03 23:31:40 -0000 (Mon, 03 Feb 2025) EllapsedTime: 60.0 seconds RetCode: 0 Status: OK PackageFile: ERSSA_1.24.0.tar.gz PackageFileSize: 2.742 MiB