Package: GARS Version: 1.26.0 Maintainer: Mattia Chiesa MaintainerEmail: mattia.chiesa at hotmail.it git_url: https://git.bioconductor.org/packages/GARS git_branch: RELEASE_3_20 git_last_commit: 47b45ab git_last_commit_date: 2024-10-29 10:26:05 -0500 (Tue, 29 Oct 2024)