Package: GOSemSim Version: 2.32.0 Command: /Library/Frameworks/R.framework/Resources/bin/R CMD build --keep-empty-dirs --no-resave-data GOSemSim StartedAt: 2025-02-21 00:51:03 -0500 (Fri, 21 Feb 2025) EndedAt: 2025-02-21 00:51:32 -0500 (Fri, 21 Feb 2025) EllapsedTime: 28.6 seconds RetCode: 0 Status: OK PackageFile: GOSemSim_2.32.0.tar.gz PackageFileSize: 594.7 KiB