Package: GOSemSim Version: 2.32.0 Command: /Library/Frameworks/R.framework/Resources/bin/R CMD check --install=check:GOSemSim.install-out.txt --library=/Library/Frameworks/R.framework/Resources/library --no-vignettes --timings GOSemSim_2.32.0.tar.gz StartedAt: 2025-02-21 21:30:15 -0500 (Fri, 21 Feb 2025) EndedAt: 2025-02-21 21:33:06 -0500 (Fri, 21 Feb 2025) EllapsedTime: 170.5 seconds RetCode: 0 Status: OK CheckDir: GOSemSim.Rcheck Warnings: 0