Package: Guitar Version: 2.22.0 Command: /Library/Frameworks/R.framework/Resources/bin/R CMD check --install=check:Guitar.install-out.txt --library=/Library/Frameworks/R.framework/Resources/library --no-vignettes --timings Guitar_2.22.0.tar.gz StartedAt: 2024-11-09 04:09:41 -0500 (Sat, 09 Nov 2024) EndedAt: 2024-11-09 04:15:05 -0500 (Sat, 09 Nov 2024) EllapsedTime: 323.1 seconds RetCode: 0 Status: OK CheckDir: Guitar.Rcheck Warnings: 0