Package: Guitar Version: 2.22.0 Command: /Library/Frameworks/R.framework/Resources/bin/R CMD INSTALL Guitar StartedAt: 2025-01-30 15:37:57 -0500 (Thu, 30 Jan 2025) EndedAt: 2025-01-30 15:39:11 -0500 (Thu, 30 Jan 2025) EllapsedTime: 74.3 seconds RetCode: 0 Status: OK