Package: Harshlight Version: 1.78.0 Command: /Library/Frameworks/R.framework/Resources/bin/R CMD build --keep-empty-dirs --no-resave-data Harshlight StartedAt: 2025-01-30 19:44:24 -0500 (Thu, 30 Jan 2025) EndedAt: 2025-01-30 19:45:18 -0500 (Thu, 30 Jan 2025) EllapsedTime: 54.3 seconds RetCode: 0 Status: OK PackageFile: Harshlight_1.78.0.tar.gz PackageFileSize: 268.1 KiB