Package: LOLA Version: 1.36.0 Command: rm -rf LOLA.buildbin-libdir && mkdir LOLA.buildbin-libdir && /Users/biocbuild/BBS/utils/build-universal.sh LOLA_1.36.0.tar.gz /Library/Frameworks/R.framework/Resources/bin/R LOLA.buildbin-libdir StartedAt: 2025-02-04 13:17:58 -0500 (Tue, 04 Feb 2025) EndedAt: 2025-02-04 13:18:38 -0500 (Tue, 04 Feb 2025) EllapsedTime: 40.3 seconds RetCode: 0 Status: OK PackageFile: LOLA_1.36.0.tgz PackageFileSize: 1.185 MiB