Package: LOLA Version: 1.36.0 Command: /Library/Frameworks/R.framework/Resources/bin/R CMD build --keep-empty-dirs --no-resave-data LOLA StartedAt: 2025-01-30 20:15:13 -0500 (Thu, 30 Jan 2025) EndedAt: 2025-01-30 20:16:12 -0500 (Thu, 30 Jan 2025) EllapsedTime: 58.4 seconds RetCode: 0 Status: OK PackageFile: LOLA_1.36.0.tar.gz PackageFileSize: 1.11 MiB