Package: MBASED Version: 1.40.0 Command: /Library/Frameworks/R.framework/Resources/bin/R CMD build --keep-empty-dirs --no-resave-data MBASED StartedAt: 2025-02-03 20:03:49 -0500 (Mon, 03 Feb 2025) EndedAt: 2025-02-03 20:07:42 -0500 (Mon, 03 Feb 2025) EllapsedTime: 232.4 seconds RetCode: 0 Status: OK PackageFile: MBASED_1.40.0.tar.gz PackageFileSize: 364.5 KiB