Package: MEAT Version: 1.18.0 Command: rm -rf MEAT.buildbin-libdir && mkdir MEAT.buildbin-libdir && /Users/biocbuild/BBS/utils/build-universal.sh MEAT_1.18.0.tar.gz /Library/Frameworks/R.framework/Resources/bin/R MEAT.buildbin-libdir StartedAt: 2025-02-05 16:31:49 -0500 (Wed, 05 Feb 2025) EndedAt: 2025-02-05 16:33:02 -0500 (Wed, 05 Feb 2025) EllapsedTime: 72.1 seconds RetCode: 0 Status: OK PackageFile: MEAT_1.18.0.tgz PackageFileSize: 5.709 MiB