Package: MLP Version: 1.54.0 Command: /Library/Frameworks/R.framework/Resources/bin/R CMD INSTALL MLP StartedAt: 2025-01-30 15:31:49 -0500 (Thu, 30 Jan 2025) EndedAt: 2025-01-30 15:32:17 -0500 (Thu, 30 Jan 2025) EllapsedTime: 28.2 seconds RetCode: 0 Status: OK