Package: MicrobiotaProcess Version: 1.18.0 Command: /Library/Frameworks/R.framework/Resources/bin/R CMD check --install=check:MicrobiotaProcess.install-out.txt --library=/Library/Frameworks/R.framework/Resources/library --no-vignettes --timings MicrobiotaProcess_1.18.0.tar.gz StartedAt: 2025-02-05 01:48:07 -0500 (Wed, 05 Feb 2025) EndedAt: 2025-02-05 01:53:53 -0500 (Wed, 05 Feb 2025) EllapsedTime: 345.8 seconds RetCode: 0 Status: OK CheckDir: MicrobiotaProcess.Rcheck Warnings: 0