Package: Modstrings Version: 1.22.0 Command: /home/biocbuild/bbs-3.20-bioc/R/bin/R CMD check --install=check:Modstrings.install-out.txt --library=/home/biocbuild/bbs-3.20-bioc/R/site-library --timings Modstrings_1.22.0.tar.gz StartedAt: 2025-02-04 00:17:37 -0500 (Tue, 04 Feb 2025) EndedAt: 2025-02-04 00:19:59 -0500 (Tue, 04 Feb 2025) EllapsedTime: 142.1 seconds RetCode: 0 Status: OK CheckDir: Modstrings.Rcheck Warnings: 0