Package: MouseFM Version: 1.16.0 Command: rm -rf MouseFM.buildbin-libdir && mkdir MouseFM.buildbin-libdir && /Users/biocbuild/BBS/utils/build-universal.sh MouseFM_1.16.0.tar.gz /Library/Frameworks/R.framework/Resources/bin/R MouseFM.buildbin-libdir StartedAt: 2025-01-31 13:12:56 -0500 (Fri, 31 Jan 2025) EndedAt: 2025-01-31 13:13:37 -0500 (Fri, 31 Jan 2025) EllapsedTime: 41.4 seconds RetCode: 0 Status: OK PackageFile: MouseFM_1.16.0.tgz PackageFileSize: 830 KiB