Package: MsBackendMsp Version: 1.14.0 Command: /home/biocbuild/bbs-3.22-bioc/R/bin/R CMD INSTALL MsBackendMsp StartedAt: 2025-11-16 15:15:47 -0500 (Sun, 16 Nov 2025) EndedAt: 2025-11-16 15:15:56 -0500 (Sun, 16 Nov 2025) EllapsedTime: 9.4 seconds RetCode: 0 Status: OK