Package: PCAtools Version: 2.18.0 Command: /Library/Frameworks/R.framework/Resources/bin/R CMD build --keep-empty-dirs --no-resave-data PCAtools StartedAt: 2025-02-11 05:20:13 -0500 (Tue, 11 Feb 2025) EndedAt: 2025-02-11 05:21:38 -0500 (Tue, 11 Feb 2025) EllapsedTime: 85.6 seconds RetCode: 1 Status: ERROR PackageFile: None PackageFileSize: NA