Package: PECA Version: 1.42.0 Command: rm -rf PECA.buildbin-libdir && mkdir PECA.buildbin-libdir && /Users/biocbuild/BBS/utils/build-universal.sh PECA_1.42.0.tar.gz /Library/Frameworks/R.framework/Resources/bin/R PECA.buildbin-libdir StartedAt: 2025-02-04 13:45:13 -0500 (Tue, 04 Feb 2025) EndedAt: 2025-02-04 13:46:28 -0500 (Tue, 04 Feb 2025) EllapsedTime: 75.5 seconds RetCode: 0 Status: OK PackageFile: PECA_1.42.0.tgz PackageFileSize: 224.1 KiB