Package: PECA Version: 1.42.0 Command: /Library/Frameworks/R.framework/Resources/bin/R CMD build --keep-empty-dirs --no-resave-data PECA StartedAt: 2025-02-03 21:13:13 -0500 (Mon, 03 Feb 2025) EndedAt: 2025-02-03 21:14:48 -0500 (Mon, 03 Feb 2025) EllapsedTime: 95.4 seconds RetCode: 0 Status: OK PackageFile: PECA_1.42.0.tar.gz PackageFileSize: 214.8 KiB