Package: PROPER Version: 1.38.0 Command: rm -rf PROPER.buildbin-libdir && mkdir PROPER.buildbin-libdir && /Users/biocbuild/BBS/utils/build-universal.sh PROPER_1.38.0.tar.gz /Library/Frameworks/R.framework/Resources/bin/R PROPER.buildbin-libdir StartedAt: 2025-02-04 13:51:02 -0500 (Tue, 04 Feb 2025) EndedAt: 2025-02-04 13:51:12 -0500 (Tue, 04 Feb 2025) EllapsedTime: 9.5 seconds RetCode: 0 Status: OK PackageFile: PROPER_1.38.0.tgz PackageFileSize: 1.573 MiB