Package: PROPER Version: 1.38.0 Command: /Library/Frameworks/R.framework/Resources/bin/R CMD build --keep-empty-dirs --no-resave-data PROPER StartedAt: 2025-02-03 21:25:05 -0500 (Mon, 03 Feb 2025) EndedAt: 2025-02-03 21:25:28 -0500 (Mon, 03 Feb 2025) EllapsedTime: 22.8 seconds RetCode: 0 Status: OK PackageFile: PROPER_1.38.0.tar.gz PackageFileSize: 1.8 MiB