Package: ROTS Version: 1.34.0 Command: F:\biocbuild\bbs-3.20-bioc\R\bin\R.exe CMD INSTALL ROTS StartedAt: 2025-01-30 15:23:07 -0500 (Thu, 30 Jan 2025) EndedAt: 2025-01-30 15:23:31 -0500 (Thu, 30 Jan 2025) EllapsedTime: 24.6 seconds RetCode: 0 Status: OK