Package: Rbowtie2 Version: 2.12.3 Maintainer: Zheng Wei MaintainerEmail: wzweizheng at qq.com git_url: https://git.bioconductor.org/packages/Rbowtie2 git_branch: RELEASE_3_20 git_last_commit: 52ab8a6 git_last_commit_date: 2025-01-19 12:48:17 -0500 (Sun, 19 Jan 2025)