Package: Rtreemix Version: 1.68.0 Command: rm -rf Rtreemix.buildbin-libdir && mkdir Rtreemix.buildbin-libdir && /Users/biocbuild/BBS/utils/build-universal.sh Rtreemix_1.68.0.tar.gz /Library/Frameworks/R.framework/Resources/bin/R Rtreemix.buildbin-libdir StartedAt: 2025-01-31 13:35:41 -0500 (Fri, 31 Jan 2025) EndedAt: 2025-01-31 13:37:37 -0500 (Fri, 31 Jan 2025) EllapsedTime: 115.9 seconds RetCode: 0 Status: OK PackageFile: Rtreemix_1.68.0.tgz PackageFileSize: 1.03 MiB