Package: Rtreemix Version: 1.68.0 Command: /Library/Frameworks/R.framework/Resources/bin/R CMD check --install=check:Rtreemix.install-out.txt --library=/Library/Frameworks/R.framework/Resources/library --no-vignettes --timings Rtreemix_1.68.0.tar.gz StartedAt: 2025-02-04 09:21:51 -0500 (Tue, 04 Feb 2025) EndedAt: 2025-02-04 09:24:02 -0500 (Tue, 04 Feb 2025) EllapsedTime: 130.9 seconds RetCode: 0 Status: WARNINGS CheckDir: Rtreemix.Rcheck Warnings: 1