Package: SCArray.sat Version: 1.8.0 Command: /Library/Frameworks/R.framework/Resources/bin/R CMD build --keep-empty-dirs --no-resave-data SCArray.sat StartedAt: 2025-04-21 17:32:10 -0400 (Mon, 21 Apr 2025) EndedAt: 2025-04-21 17:32:48 -0400 (Mon, 21 Apr 2025) EllapsedTime: 37.4 seconds RetCode: 0 Status: OK PackageFile: SCArray.sat_1.8.0.tar.gz PackageFileSize: 685.6 KiB