Package: SCArray.sat Version: 1.8.0 Command: /home/biocbuild/R/R/bin/R CMD build --keep-empty-dirs --no-resave-data SCArray.sat StartedAt: 2025-06-13 04:36:47 -0000 (Fri, 13 Jun 2025) EndedAt: 2025-06-13 04:38:31 -0000 (Fri, 13 Jun 2025) EllapsedTime: 104.1 seconds RetCode: 0 Status: OK PackageFile: SCArray.sat_1.8.0.tar.gz PackageFileSize: 726.9 KiB