Package: SCArray.sat Version: 1.8.0 Command: /home/biocbuild/R/R/bin/R CMD INSTALL SCArray.sat StartedAt: 2025-06-12 21:13:09 -0000 (Thu, 12 Jun 2025) EndedAt: 2025-06-12 21:14:08 -0000 (Thu, 12 Jun 2025) EllapsedTime: 58.7 seconds RetCode: 0 Status: OK