Package: SCArray.sat Version: 1.8.0 Command: rm -rf SCArray.sat.buildbin-libdir && mkdir SCArray.sat.buildbin-libdir && /Users/biocbuild/BBS/utils/build-universal.sh SCArray.sat_1.8.0.tar.gz /Library/Frameworks/R.framework/Resources/bin/R SCArray.sat.buildbin-libdir StartedAt: 2025-04-22 01:06:44 -0400 (Tue, 22 Apr 2025) EndedAt: 2025-04-22 01:07:43 -0400 (Tue, 22 Apr 2025) EllapsedTime: 58.7 seconds RetCode: 0 Status: OK PackageFile: SCArray.sat_1.8.0.tgz PackageFileSize: 817.3 KiB