Package: SCFA Version: 1.16.0 Command: /home/biocbuild/R/R/bin/R CMD INSTALL SCFA StartedAt: 2025-02-03 21:04:27 -0000 (Mon, 03 Feb 2025) EndedAt: 2025-02-03 21:04:39 -0000 (Mon, 03 Feb 2025) EllapsedTime: 12.5 seconds RetCode: 0 Status: OK