Package: bigmelon Version: 1.32.0 Command: rm -rf bigmelon.buildbin-libdir && mkdir bigmelon.buildbin-libdir && /Users/biocbuild/BBS/utils/build-universal.sh bigmelon_1.32.0.tar.gz /Library/Frameworks/R.framework/Resources/bin/R bigmelon.buildbin-libdir StartedAt: 2025-01-31 12:23:34 -0500 (Fri, 31 Jan 2025) EndedAt: 2025-01-31 12:25:31 -0500 (Fri, 31 Jan 2025) EllapsedTime: 117.0 seconds RetCode: 0 Status: OK PackageFile: bigmelon_1.32.0.tgz PackageFileSize: 1.202 MiB