Package: biocroxytest Version: 1.2.0 Command: /home/biocbuild/bbs-3.20-bioc/R/bin/R CMD check --install=check:biocroxytest.install-out.txt --library=/home/biocbuild/bbs-3.20-bioc/R/site-library --timings biocroxytest_1.2.0.tar.gz StartedAt: 2025-02-03 20:26:09 -0500 (Mon, 03 Feb 2025) EndedAt: 2025-02-03 20:26:36 -0500 (Mon, 03 Feb 2025) EllapsedTime: 26.1 seconds RetCode: 0 Status: OK CheckDir: biocroxytest.Rcheck Warnings: 0