Package: biomaRt Version: 2.62.1 Maintainer: Mike Smith MaintainerEmail: grimbough at gmail.com git_url: https://git.bioconductor.org/packages/biomaRt git_branch: RELEASE_3_20 git_last_commit: 1b1e4b1 git_last_commit_date: 2025-01-29 09:28:49 -0500 (Wed, 29 Jan 2025)