Package: ceRNAnetsim Version: 1.18.0 Command: /home/biocbuild/R/R/bin/R CMD INSTALL ceRNAnetsim StartedAt: 2025-02-03 21:01:36 -0000 (Mon, 03 Feb 2025) EndedAt: 2025-02-03 21:01:45 -0000 (Mon, 03 Feb 2025) EllapsedTime: 8.8 seconds RetCode: 0 Status: OK