Package: cellscape Version: 1.30.0 Command: F:\biocbuild\bbs-3.20-bioc\R\bin\R.exe CMD INSTALL cellscape StartedAt: 2025-02-03 15:59:37 -0500 (Mon, 03 Feb 2025) EndedAt: 2025-02-03 15:59:57 -0500 (Mon, 03 Feb 2025) EllapsedTime: 19.5 seconds RetCode: 0 Status: OK