Package: chromPlot Version: 1.34.0 Command: /Library/Frameworks/R.framework/Resources/bin/R CMD INSTALL chromPlot StartedAt: 2025-02-03 15:55:11 -0500 (Mon, 03 Feb 2025) EndedAt: 2025-02-03 15:55:48 -0500 (Mon, 03 Feb 2025) EllapsedTime: 36.5 seconds RetCode: 0 Status: OK