Package: cmapR Version: 1.18.0 Command: /Library/Frameworks/R.framework/Resources/bin/R CMD check --install=check:cmapR.install-out.txt --library=/Library/Frameworks/R.framework/Resources/library --no-vignettes --timings cmapR_1.18.0.tar.gz StartedAt: 2025-02-04 01:27:33 -0500 (Tue, 04 Feb 2025) EndedAt: 2025-02-04 01:35:08 -0500 (Tue, 04 Feb 2025) EllapsedTime: 454.8 seconds RetCode: 0 Status: OK CheckDir: cmapR.Rcheck Warnings: 0