Package: coMET Version: 1.38.0 Command: rm -rf coMET.buildbin-libdir && mkdir coMET.buildbin-libdir && /Users/biocbuild/BBS/utils/build-universal.sh coMET_1.38.0.tar.gz /Library/Frameworks/R.framework/Resources/bin/R coMET.buildbin-libdir StartedAt: 2025-02-15 14:48:34 -0500 (Sat, 15 Feb 2025) EndedAt: 2025-02-15 14:49:50 -0500 (Sat, 15 Feb 2025) EllapsedTime: 75.7 seconds RetCode: 0 Status: OK PackageFile: coMET_1.38.0.tgz PackageFileSize: 21.82 MiB