Package: coMET Version: 1.38.0 Command: /Library/Frameworks/R.framework/Resources/bin/R CMD build --keep-empty-dirs --no-resave-data coMET StartedAt: 2025-02-13 21:18:39 -0500 (Thu, 13 Feb 2025) EndedAt: 2025-02-13 21:21:38 -0500 (Thu, 13 Feb 2025) EllapsedTime: 179.1 seconds RetCode: 0 Status: OK PackageFile: coMET_1.38.0.tar.gz PackageFileSize: 21.83 MiB