Package: coMET Version: 1.38.0 Command: /Library/Frameworks/R.framework/Resources/bin/R CMD INSTALL coMET StartedAt: 2025-02-13 16:46:41 -0500 (Thu, 13 Feb 2025) EndedAt: 2025-02-13 16:47:47 -0500 (Thu, 13 Feb 2025) EllapsedTime: 66.0 seconds RetCode: 0 Status: OK