Package: cycle Version: 1.60.0 Command: /Library/Frameworks/R.framework/Resources/bin/R CMD check --install=check:cycle.install-out.txt --library=/Library/Frameworks/R.framework/Resources/library --no-vignettes --timings cycle_1.60.0.tar.gz StartedAt: 2025-02-04 16:52:29 -0500 (Tue, 04 Feb 2025) EndedAt: 2025-02-04 16:53:02 -0500 (Tue, 04 Feb 2025) EllapsedTime: 33.6 seconds RetCode: 0 Status: OK CheckDir: cycle.Rcheck Warnings: 0