Package: cycle Version: 1.60.0 Command: /Library/Frameworks/R.framework/Resources/bin/R CMD INSTALL cycle StartedAt: 2025-02-03 15:22:43 -0500 (Mon, 03 Feb 2025) EndedAt: 2025-02-03 15:22:47 -0500 (Mon, 03 Feb 2025) EllapsedTime: 4.6 seconds RetCode: 0 Status: OK