Package: dearseq Version: 1.18.0 Command: /Library/Frameworks/R.framework/Resources/bin/R CMD build --keep-empty-dirs --no-resave-data dearseq StartedAt: 2025-02-03 21:58:48 -0500 (Mon, 03 Feb 2025) EndedAt: 2025-02-03 22:06:01 -0500 (Mon, 03 Feb 2025) EllapsedTime: 433.1 seconds RetCode: 0 Status: OK PackageFile: dearseq_1.18.0.tar.gz PackageFileSize: 765.8 KiB