Package: decontX Version: 1.4.0 Command: /Library/Frameworks/R.framework/Resources/bin/R CMD check --install=check:decontX.install-out.txt --library=/Library/Frameworks/R.framework/Resources/library --no-vignettes --timings decontX_1.4.0.tar.gz StartedAt: 2025-02-04 17:23:30 -0500 (Tue, 04 Feb 2025) EndedAt: 2025-02-04 17:30:50 -0500 (Tue, 04 Feb 2025) EllapsedTime: 439.8 seconds RetCode: 0 Status: WARNINGS CheckDir: decontX.Rcheck Warnings: 1