Package: decontX Version: 1.4.0 Command: F:\biocbuild\bbs-3.20-bioc\R\bin\R.exe CMD check --no-multiarch --install=check:decontX.install-out.txt --library=F:\biocbuild\bbs-3.20-bioc\R\library --no-vignettes --timings decontX_1.4.0.tar.gz StartedAt: 2025-02-04 00:58:42 -0500 (Tue, 04 Feb 2025) EndedAt: 2025-02-04 01:07:31 -0500 (Tue, 04 Feb 2025) EllapsedTime: 528.3 seconds RetCode: 0 Status: OK CheckDir: decontX.Rcheck Warnings: 0